BEGIN:VCALENDAR
VERSION:2.0
PRODID:-//wp-events-plugin.com//7.2.3.1//EN
TZID:Europe/Berlin
X-WR-TIMEZONE:Europe/Berlin
BEGIN:VEVENT
UID:13@machtsinn.bayern
DTSTART;TZID=Europe/Berlin:20230917T140000
DTEND;TZID=Europe/Berlin:20230917T180000
DTSTAMP:20230810T161934Z
URL:https://machtsinn.bayern/events/sommerlicher-permakultur-kochabend-mit
 -machtsinn-im-waldgarten-am-riedlerhof/
SUMMARY:Sommerlicher Permakultur-Kochabend mit machtSINN im Waldgarten am R
 iedlerhof
DESCRIPTION:VERSCHOBEN VOM 05.08.!!\n\nGartenführung\, Ernten\, Kochen\, g
 emeinsames Abendessen mit Live-Musik\n\n&nbsp\;\n\nWas hat Kompost mit Kom
 position zu tun? Wie schmeckt eine Komposition\, die Koch und Komponistin 
 gemeinsam auf den Tisch bringen? Was heißt Kreislauf in der Permakultur? 
 Welche Musik mag die Rote Bete am allerliebsten?\n\nEin rundum besonderer 
 Abend erwartet Sie:\n\nGartenführung mit Permakulturgärtnerin Jana Heene
 n\nKochen mit Bernhard Wolf und Andrea Brenner von machtSINN\nGemeinsames 
 Abendessen am Riedlerhof\nLivemusik mit Anschi Hacklinger (Klavier\, Kompo
 sitionen) und Marion Dimbath (Tuba\, Posaune)\n\n\n\nPlätze begrenzt\, An
 meldung unter servus@machtSINN.bayern oder 08024-6088924 oder direkte Buch
 ung über unseren Ticketshop!\n\nPreis: 69\,- € pro Person inkl. Geträn
 ke\n\nBitte feldtaugliche Schuhe bzw. Kleidung mitbringen!\n\nFindet nur b
 ei trockenem Wetter statt\n\nOrt: Riedlerhof Weyarn\n\n&nbsp\;\n\nFoto: ©
  Kathi Rummel\n\n&nbsp\;
ATTACH;FMTTYPE=image/jpeg:https://machtsinn.bayern/wp-content/uploads/2023
 /03/B7DC5DD0-3ADD-4A94-B548-F756A6F7C1ED.jpeg
LOCATION:Riedlerhof\, Riedler 2\, Weyarn\, 83629\, Deutschland
X-APPLE-STRUCTURED-LOCATION;VALUE=URI;X-ADDRESS=Riedler 2\, Weyarn\, 83629\
 , Deutschland;X-APPLE-RADIUS=100;X-TITLE=Riedlerhof:geo:0,0
END:VEVENT
BEGIN:VTIMEZONE
TZID:Europe/Berlin
X-LIC-LOCATION:Europe/Berlin
BEGIN:DAYLIGHT
DTSTART:20230326T030000
TZOFFSETFROM:+0100
TZOFFSETTO:+0200
TZNAME:CEST
END:DAYLIGHT
END:VTIMEZONE
END:VCALENDAR